BEGIN:VCALENDAR
VERSION:2.0
PRODID:icalendar-ruby
CALSCALE:GREGORIAN
BEGIN:VEVENT
DTSTAMP:20210119T032304Z
UID:3332aea4-eee9-414f-8c44-9395183de386
DTSTART;VALUE=DATE:20201215
DESCRIPTION:Property ID# 495656\, Time: 4:00PM
SUMMARY:Auction for 514 Puketona Road
END:VEVENT
END:VCALENDAR
